Package: IFAA Version: 1.9.0 Command: /home/biocbuild/R/R/bin/R CMD build --keep-empty-dirs --no-resave-data IFAA StartedAt: 2025-01-28 23:42:04 -0000 (Tue, 28 Jan 2025) EndedAt: 2025-01-28 23:44:55 -0000 (Tue, 28 Jan 2025) EllapsedTime: 170.2 seconds RetCode: 0 Status: OK PackageFile: IFAA_1.9.0.tar.gz PackageFileSize: 319.7 KiB