Package: IFAA Version: 1.9.0 Command: /Library/Frameworks/R.framework/Resources/bin/R CMD INSTALL IFAA StartedAt: 2025-01-31 15:19:36 -0500 (Fri, 31 Jan 2025) EndedAt: 2025-01-31 15:19:47 -0500 (Fri, 31 Jan 2025) EllapsedTime: 10.3 seconds RetCode: 0 Status: OK