Package: HybridMTest Version: 1.51.0 Command: chmod a+r HybridMTest -R && E:\biocbuild\bbs-3.21-bioc\R\bin\R.exe CMD build --keep-empty-dirs --no-resave-data HybridMTest StartedAt: 2025-01-31 19:08:32 -0500 (Fri, 31 Jan 2025) EndedAt: 2025-01-31 19:08:46 -0500 (Fri, 31 Jan 2025) EllapsedTime: 14.5 seconds RetCode: 0 Status: OK PackageFile: HybridMTest_1.51.0.tar.gz PackageFileSize: 172.2 KiB