Package: HiLDA Version: 1.21.0 Command: E:\biocbuild\bbs-3.21-bioc\R\bin\R.exe CMD check --no-multiarch --install=check:HiLDA.install-out.txt --library=E:\biocbuild\bbs-3.21-bioc\R\library --no-vignettes --timings HiLDA_1.21.0.tar.gz StartedAt: 2025-02-01 01:39:02 -0500 (Sat, 01 Feb 2025) EndedAt: 2025-02-01 01:44:08 -0500 (Sat, 01 Feb 2025) EllapsedTime: 305.9 seconds RetCode: 0 Status: OK CheckDir: HiLDA.Rcheck Warnings: 0