Package: HiLDA Version: 1.21.0 Command: rm -rf HiLDA.buildbin-libdir && mkdir HiLDA.buildbin-libdir && E:\biocbuild\bbs-3.21-bioc\R\bin\R.exe CMD INSTALL --build --library=HiLDA.buildbin-libdir HiLDA_1.21.0.tar.gz StartedAt: 2025-02-01 07:24:41 -0500 (Sat, 01 Feb 2025) EndedAt: 2025-02-01 07:25:12 -0500 (Sat, 01 Feb 2025) EllapsedTime: 30.7 seconds RetCode: 0 Status: OK PackageFile: HiLDA_1.21.0.zip PackageFileSize: 2.854 MiB