Package: HiLDA Version: 1.21.0 Command: /Library/Frameworks/R.framework/Resources/bin/R CMD INSTALL HiLDA StartedAt: 2025-01-31 15:28:12 -0500 (Fri, 31 Jan 2025) EndedAt: 2025-01-31 15:28:32 -0500 (Fri, 31 Jan 2025) EllapsedTime: 20.4 seconds RetCode: 0 Status: OK