Package: HiLDA Version: 1.21.0 Command: /Library/Frameworks/R.framework/Resources/bin/R CMD check --install=check:HiLDA.install-out.txt --library=/Library/Frameworks/R.framework/Resources/library --no-vignettes --timings HiLDA_1.21.0.tar.gz StartedAt: 2025-01-31 20:53:55 -0500 (Fri, 31 Jan 2025) EndedAt: 2025-01-31 20:58:09 -0500 (Fri, 31 Jan 2025) EllapsedTime: 254.3 seconds RetCode: 0 Status: OK CheckDir: HiLDA.Rcheck Warnings: 0