Package: HiContacts Version: 1.9.0 Command: /Library/Frameworks/R.framework/Resources/bin/R CMD build --keep-empty-dirs --no-resave-data HiContacts StartedAt: 2025-01-31 16:37:53 -0500 (Fri, 31 Jan 2025) EndedAt: 2025-01-31 16:40:10 -0500 (Fri, 31 Jan 2025) EllapsedTime: 136.4 seconds RetCode: 0 Status: OK PackageFile: HiContacts_1.9.0.tar.gz PackageFileSize: 5.376 MiB