Package: HarmonizR Version: 1.5.0 Command: /home/biocbuild/bbs-3.21-bioc/R/bin/R CMD check --install=check:HarmonizR.install-out.txt --library=/home/biocbuild/bbs-3.21-bioc/R/site-library --timings HarmonizR_1.5.0.tar.gz StartedAt: 2025-01-31 23:01:44 -0500 (Fri, 31 Jan 2025) EndedAt: 2025-01-31 23:02:43 -0500 (Fri, 31 Jan 2025) EllapsedTime: 59.1 seconds RetCode: 0 Status: OK CheckDir: HarmonizR.Rcheck Warnings: 0