Package: HTSeqGenie Version: 4.37.1 Command: /home/biocbuild/bbs-3.21-bioc/R/bin/R CMD check --install=check:HTSeqGenie.install-out.txt --library=/home/biocbuild/bbs-3.21-bioc/R/site-library --timings HTSeqGenie_4.37.1.tar.gz StartedAt: 2025-01-31 23:11:55 -0500 (Fri, 31 Jan 2025) EndedAt: 2025-01-31 23:51:55 -0500 (Fri, 31 Jan 2025) EllapsedTime: 2400.8 seconds RetCode: None Status: TIMEOUT CheckDir: HTSeqGenie.Rcheck Warnings: NA