Package: HPiP Version: 1.13.0 Command: /Library/Frameworks/R.framework/Resources/bin/R CMD build --keep-empty-dirs --no-resave-data HPiP StartedAt: 2025-01-31 17:02:15 -0500 (Fri, 31 Jan 2025) EndedAt: 2025-01-31 17:12:22 -0500 (Fri, 31 Jan 2025) EllapsedTime: 607.1 seconds RetCode: 0 Status: OK PackageFile: HPiP_1.13.0.tar.gz PackageFileSize: 4.566 MiB