Package: HIPPO Version: 1.19.0 Command: /Library/Frameworks/R.framework/Resources/bin/R CMD INSTALL HIPPO StartedAt: 2025-01-31 15:15:18 -0500 (Fri, 31 Jan 2025) EndedAt: 2025-01-31 15:15:57 -0500 (Fri, 31 Jan 2025) EllapsedTime: 39.7 seconds RetCode: 0 Status: OK