Package: HIPPO Version: 1.19.0 Command: /Library/Frameworks/R.framework/Resources/bin/R CMD build --keep-empty-dirs --no-resave-data HIPPO StartedAt: 2025-01-31 16:38:54 -0500 (Fri, 31 Jan 2025) EndedAt: 2025-01-31 16:39:10 -0500 (Fri, 31 Jan 2025) EllapsedTime: 16.2 seconds RetCode: 0 Status: OK PackageFile: HIPPO_1.19.0.tar.gz PackageFileSize: 646.6 KiB