Package: HEM Version: 1.79.0 Command: E:\biocbuild\bbs-3.21-bioc\R\bin\R.exe CMD INSTALL HEM StartedAt: 2025-01-31 15:23:20 -0500 (Fri, 31 Jan 2025) EndedAt: 2025-01-31 15:23:43 -0500 (Fri, 31 Jan 2025) EllapsedTime: 23.6 seconds RetCode: 0 Status: OK