Package: HDF5Array Version: 1.35.11 Command: E:\biocbuild\bbs-3.21-bioc\R\bin\R.exe CMD INSTALL HDF5Array StartedAt: 2025-01-31 15:36:40 -0500 (Fri, 31 Jan 2025) EndedAt: 2025-01-31 15:37:50 -0500 (Fri, 31 Jan 2025) EllapsedTime: 69.6 seconds RetCode: 0 Status: OK