Package: HDF5Array Version: 1.35.11 Command: chmod a+r HDF5Array -R && E:\biocbuild\bbs-3.21-bioc\R\bin\R.exe CMD build --keep-empty-dirs --no-resave-data HDF5Array StartedAt: 2025-01-31 19:01:09 -0500 (Fri, 31 Jan 2025) EndedAt: 2025-01-31 19:41:10 -0500 (Fri, 31 Jan 2025) EllapsedTime: 2400.6 seconds RetCode: None Status: TIMEOUT PackageFile: None PackageFileSize: NA