Package: Guitar Version: 2.23.0 Command: E:\biocbuild\bbs-3.21-bioc\R\bin\R.exe CMD INSTALL Guitar StartedAt: 2025-01-31 15:59:34 -0500 (Fri, 31 Jan 2025) EndedAt: 2025-01-31 16:00:20 -0500 (Fri, 31 Jan 2025) EllapsedTime: 46.7 seconds RetCode: 0 Status: OK