Package: Guitar Version: 2.23.0 Command: rm -rf Guitar.buildbin-libdir && mkdir Guitar.buildbin-libdir && E:\biocbuild\bbs-3.21-bioc\R\bin\R.exe CMD INSTALL --build --library=Guitar.buildbin-libdir Guitar_2.23.0.tar.gz StartedAt: 2025-02-01 07:23:00 -0500 (Sat, 01 Feb 2025) EndedAt: 2025-02-01 07:23:42 -0500 (Sat, 01 Feb 2025) EllapsedTime: 41.9 seconds RetCode: 0 Status: OK PackageFile: Guitar_2.23.0.zip PackageFileSize: 3.711 MiB