Package: Guitar Version: 2.23.0 Command: /home/biocbuild/R/R/bin/R CMD INSTALL Guitar StartedAt: 2025-01-29 19:51:53 -0000 (Wed, 29 Jan 2025) EndedAt: 2025-01-29 19:52:43 -0000 (Wed, 29 Jan 2025) EllapsedTime: 49.5 seconds RetCode: 0 Status: OK