Package: GraphPAC Version: 1.49.0 Command: /home/biocbuild/bbs-3.21-bioc/R/bin/R CMD check --install=check:GraphPAC.install-out.txt --library=/home/biocbuild/bbs-3.21-bioc/R/site-library --timings GraphPAC_1.49.0.tar.gz StartedAt: 2025-01-31 22:54:18 -0500 (Fri, 31 Jan 2025) EndedAt: 2025-01-31 22:56:29 -0500 (Fri, 31 Jan 2025) EllapsedTime: 131.2 seconds RetCode: 0 Status: OK CheckDir: GraphPAC.Rcheck Warnings: 0