Package: GeomxTools Version: 3.11.0 Command: rm -rf GeomxTools.buildbin-libdir && mkdir GeomxTools.buildbin-libdir && E:\biocbuild\bbs-3.21-bioc\R\bin\R.exe CMD INSTALL --build --library=GeomxTools.buildbin-libdir GeomxTools_3.11.0.tar.gz StartedAt: 2025-02-01 07:18:33 -0500 (Sat, 01 Feb 2025) EndedAt: 2025-02-01 07:20:58 -0500 (Sat, 01 Feb 2025) EllapsedTime: 145.8 seconds RetCode: 0 Status: OK PackageFile: GeomxTools_3.11.0.zip PackageFileSize: 12.68 MiB