Package: GeomxTools Version: 3.11.0 Command: /Library/Frameworks/R.framework/Resources/bin/R CMD INSTALL GeomxTools StartedAt: 2025-01-31 15:15:26 -0500 (Fri, 31 Jan 2025) EndedAt: 2025-01-31 15:15:37 -0500 (Fri, 31 Jan 2025) EllapsedTime: 10.8 seconds RetCode: 0 Status: OK