Package: GenomicTuples Version: 1.41.1 Command: /Library/Frameworks/R.framework/Resources/bin/R CMD check --install=check:GenomicTuples.install-out.txt --library=/Library/Frameworks/R.framework/Resources/library --no-vignettes --timings GenomicTuples_1.41.1.tar.gz StartedAt: 2025-01-31 20:34:26 -0500 (Fri, 31 Jan 2025) EndedAt: 2025-01-31 20:36:38 -0500 (Fri, 31 Jan 2025) EllapsedTime: 132.2 seconds RetCode: 0 Status: OK CheckDir: GenomicTuples.Rcheck Warnings: 0