Package: GenomicTuples Version: 1.41.1 Command: /home/biocbuild/R/R/bin/R CMD build --keep-empty-dirs --no-resave-data GenomicTuples StartedAt: 2025-01-28 23:08:39 -0000 (Tue, 28 Jan 2025) EndedAt: 2025-01-28 23:09:33 -0000 (Tue, 28 Jan 2025) EllapsedTime: 54.0 seconds RetCode: 0 Status: OK PackageFile: GenomicTuples_1.41.1.tar.gz PackageFileSize: 327.6 KiB