Package: GenomicOZone Version: 1.21.0 Command: E:\biocbuild\bbs-3.21-bioc\R\bin\R.exe CMD check --no-multiarch --install=check:GenomicOZone.install-out.txt --library=E:\biocbuild\bbs-3.21-bioc\R\library --no-vignettes --timings GenomicOZone_1.21.0.tar.gz StartedAt: 2025-02-01 01:06:55 -0500 (Sat, 01 Feb 2025) EndedAt: 2025-02-01 01:13:35 -0500 (Sat, 01 Feb 2025) EllapsedTime: 399.8 seconds RetCode: 0 Status: OK CheckDir: GenomicOZone.Rcheck Warnings: 0