Package: GenomicOZone Version: 1.21.0 Command: /home/biocbuild/R/R/bin/R CMD INSTALL GenomicOZone StartedAt: 2025-01-29 20:13:08 -0000 (Wed, 29 Jan 2025) EndedAt: 2025-01-29 20:14:39 -0000 (Wed, 29 Jan 2025) EllapsedTime: 90.6 seconds RetCode: 0 Status: OK