Package: GenomicFeatures Version: 1.59.1 Command: /home/biocbuild/bbs-3.21-bioc/R/bin/R CMD build --keep-empty-dirs --no-resave-data GenomicFeatures StartedAt: 2025-01-31 17:24:57 -0500 (Fri, 31 Jan 2025) EndedAt: 2025-01-31 17:26:13 -0500 (Fri, 31 Jan 2025) EllapsedTime: 76.1 seconds RetCode: 0 Status: OK PackageFile: GenomicFeatures_1.59.1.tar.gz PackageFileSize: 556 KiB