Package: GenomicDistributions Version: 1.15.0 Command: E:\biocbuild\bbs-3.21-bioc\R\bin\R.exe CMD check --no-multiarch --install=check:GenomicDistributions.install-out.txt --library=E:\biocbuild\bbs-3.21-bioc\R\library --no-vignettes --timings GenomicDistributions_1.15.0.tar.gz StartedAt: 2025-02-01 01:06:31 -0500 (Sat, 01 Feb 2025) EndedAt: 2025-02-01 01:09:46 -0500 (Sat, 01 Feb 2025) EllapsedTime: 194.3 seconds RetCode: 0 Status: OK CheckDir: GenomicDistributions.Rcheck Warnings: 0