Package: GenomicDistributions Version: 1.15.0 Command: chmod a+r GenomicDistributions -R && E:\biocbuild\bbs-3.21-bioc\R\bin\R.exe CMD build --keep-empty-dirs --no-resave-data GenomicDistributions StartedAt: 2025-01-31 18:43:14 -0500 (Fri, 31 Jan 2025) EndedAt: 2025-01-31 18:45:17 -0500 (Fri, 31 Jan 2025) EllapsedTime: 122.9 seconds RetCode: 0 Status: OK PackageFile: GenomicDistributions_1.15.0.tar.gz PackageFileSize: 4.979 MiB