Package: GenomicDistributions Version: 1.15.0 Command: /Library/Frameworks/R.framework/Resources/bin/R CMD check --install=check:GenomicDistributions.install-out.txt --library=/Library/Frameworks/R.framework/Resources/library --no-vignettes --timings GenomicDistributions_1.15.0.tar.gz StartedAt: 2025-01-31 20:33:51 -0500 (Fri, 31 Jan 2025) EndedAt: 2025-01-31 20:36:50 -0500 (Fri, 31 Jan 2025) EllapsedTime: 178.6 seconds RetCode: 0 Status: OK CheckDir: GenomicDistributions.Rcheck Warnings: 0