Package: GenomicDistributions Version: 1.15.0 Command: /Library/Frameworks/R.framework/Resources/bin/R CMD INSTALL GenomicDistributions StartedAt: 2025-01-31 15:06:35 -0500 (Fri, 31 Jan 2025) EndedAt: 2025-01-31 15:06:41 -0500 (Fri, 31 Jan 2025) EllapsedTime: 6.0 seconds RetCode: 0 Status: OK