Package: GenomicDataCommons Version: 1.31.0 Command: chmod a+r GenomicDataCommons -R && E:\biocbuild\bbs-3.21-bioc\R\bin\R.exe CMD build --keep-empty-dirs --no-resave-data GenomicDataCommons StartedAt: 2025-01-31 18:43:05 -0500 (Fri, 31 Jan 2025) EndedAt: 2025-01-31 18:44:45 -0500 (Fri, 31 Jan 2025) EllapsedTime: 100.1 seconds RetCode: 0 Status: OK PackageFile: GenomicDataCommons_1.31.0.tar.gz PackageFileSize: 2.275 MiB