Package: GenomicDataCommons Version: 1.31.0 Command: /home/biocbuild/bbs-3.21-bioc/R/bin/R CMD check --install=check:GenomicDataCommons.install-out.txt --library=/home/biocbuild/bbs-3.21-bioc/R/site-library --timings GenomicDataCommons_1.31.0.tar.gz StartedAt: 2025-01-31 22:36:10 -0500 (Fri, 31 Jan 2025) EndedAt: 2025-01-31 22:38:43 -0500 (Fri, 31 Jan 2025) EllapsedTime: 153.2 seconds RetCode: 1 Status: ERROR CheckDir: GenomicDataCommons.Rcheck Warnings: NA