Package: GenomicDataCommons Version: 1.31.0 Command: /home/biocbuild/R/R/bin/R CMD INSTALL GenomicDataCommons StartedAt: 2025-01-29 19:38:36 -0000 (Wed, 29 Jan 2025) EndedAt: 2025-01-29 19:38:52 -0000 (Wed, 29 Jan 2025) EllapsedTime: 15.6 seconds RetCode: 0 Status: OK