Package: GenomicDataCommons Version: 1.31.0 Command: /Library/Frameworks/R.framework/Resources/bin/R CMD INSTALL GenomicDataCommons StartedAt: 2025-01-31 15:04:15 -0500 (Fri, 31 Jan 2025) EndedAt: 2025-01-31 15:04:21 -0500 (Fri, 31 Jan 2025) EllapsedTime: 5.2 seconds RetCode: 0 Status: OK