Package: GenomicDataCommons Version: 1.31.0 Command: /Library/Frameworks/R.framework/Resources/bin/R CMD check --install=check:GenomicDataCommons.install-out.txt --library=/Library/Frameworks/R.framework/Resources/library --no-vignettes --timings GenomicDataCommons_1.31.0.tar.gz StartedAt: 2025-01-31 19:23:27 -0500 (Fri, 31 Jan 2025) EndedAt: 2025-01-31 19:24:11 -0500 (Fri, 31 Jan 2025) EllapsedTime: 43.4 seconds RetCode: 1 Status: ERROR CheckDir: GenomicDataCommons.Rcheck Warnings: NA