Package: GenomeInfoDb Version: 1.43.4 Command: rm -rf GenomeInfoDb.buildbin-libdir && mkdir GenomeInfoDb.buildbin-libdir && /Users/biocbuild/BBS/utils/build-universal.sh GenomeInfoDb_1.43.4.tar.gz /Library/Frameworks/R.framework/Resources/bin/R GenomeInfoDb.buildbin-libdir StartedAt: 2025-01-31 22:17:29 -0500 (Fri, 31 Jan 2025) EndedAt: 2025-01-31 22:17:35 -0500 (Fri, 31 Jan 2025) EllapsedTime: 6.1 seconds RetCode: 0 Status: OK PackageFile: GenomeInfoDb_1.43.4.tgz PackageFileSize: 3.986 MiB