Package: GeneTonic Version: 3.1.2 Command: /Library/Frameworks/R.framework/Resources/bin/R CMD INSTALL GeneTonic StartedAt: 2025-01-31 15:40:11 -0500 (Fri, 31 Jan 2025) EndedAt: 2025-01-31 15:41:17 -0500 (Fri, 31 Jan 2025) EllapsedTime: 66.5 seconds RetCode: 0 Status: OK