Package: GeneStructureTools Version: 1.27.0 Command: chmod a+r GeneStructureTools -R && E:\biocbuild\bbs-3.21-bioc\R\bin\R.exe CMD build --keep-empty-dirs --no-resave-data GeneStructureTools StartedAt: 2025-01-31 18:42:04 -0500 (Fri, 31 Jan 2025) EndedAt: 2025-01-31 18:45:07 -0500 (Fri, 31 Jan 2025) EllapsedTime: 183.2 seconds RetCode: 0 Status: OK PackageFile: GeneStructureTools_1.27.0.tar.gz PackageFileSize: 2.175 MiB