Package: GeneStructureTools Version: 1.27.0 Command: /Library/Frameworks/R.framework/Resources/bin/R CMD build --keep-empty-dirs --no-resave-data GeneStructureTools StartedAt: 2025-01-31 16:26:04 -0500 (Fri, 31 Jan 2025) EndedAt: 2025-01-31 16:26:57 -0500 (Fri, 31 Jan 2025) EllapsedTime: 53.6 seconds RetCode: 0 Status: OK PackageFile: GeneStructureTools_1.27.0.tar.gz PackageFileSize: 2.848 MiB