Package: GeneMeta Version: 1.79.0 Command: /home/biocbuild/R/R/bin/R CMD check --install=check:GeneMeta.install-out.txt --library=/home/biocbuild/R/R/site-library --no-vignettes --timings GeneMeta_1.79.0.tar.gz StartedAt: 2025-01-28 10:51:46 -0000 (Tue, 28 Jan 2025) EndedAt: 2025-01-28 10:53:20 -0000 (Tue, 28 Jan 2025) EllapsedTime: 93.1 seconds RetCode: 0 Status: OK CheckDir: GeneMeta.Rcheck Warnings: 0