Package: GeneExpressionSignature Version: 1.53.0 Command: /Library/Frameworks/R.framework/Resources/bin/R CMD INSTALL GeneExpressionSignature StartedAt: 2025-01-31 15:10:20 -0500 (Fri, 31 Jan 2025) EndedAt: 2025-01-31 15:10:39 -0500 (Fri, 31 Jan 2025) EllapsedTime: 19.4 seconds RetCode: 0 Status: OK