Package: GeneExpressionSignature Version: 1.53.0 Command: /home/biocbuild/R/R/bin/R CMD check --install=check:GeneExpressionSignature.install-out.txt --library=/home/biocbuild/R/R/site-library --no-vignettes --timings GeneExpressionSignature_1.53.0.tar.gz StartedAt: 2025-01-28 10:50:49 -0000 (Tue, 28 Jan 2025) EndedAt: 2025-01-28 10:51:46 -0000 (Tue, 28 Jan 2025) EllapsedTime: 57.0 seconds RetCode: 0 Status: OK CheckDir: GeneExpressionSignature.Rcheck Warnings: 0