Package: GeneBreak Version: 1.37.0 Command: /Library/Frameworks/R.framework/Resources/bin/R CMD build --keep-empty-dirs --no-resave-data GeneBreak StartedAt: 2025-01-31 16:25:19 -0500 (Fri, 31 Jan 2025) EndedAt: 2025-01-31 16:25:33 -0500 (Fri, 31 Jan 2025) EllapsedTime: 14.2 seconds RetCode: 0 Status: OK PackageFile: GeneBreak_1.37.0.tar.gz PackageFileSize: 4.274 MiB