Package: GWENA Version: 1.17.0 Command: /Library/Frameworks/R.framework/Resources/bin/R CMD check --install=check:GWENA.install-out.txt --library=/Library/Frameworks/R.framework/Resources/library --no-vignettes --timings GWENA_1.17.0.tar.gz StartedAt: 2025-01-31 20:48:41 -0500 (Fri, 31 Jan 2025) EndedAt: 2025-01-31 20:57:43 -0500 (Fri, 31 Jan 2025) EllapsedTime: 541.8 seconds RetCode: 0 Status: WARNINGS CheckDir: GWENA.Rcheck Warnings: 2