Package: GWENA Version: 1.17.0 Command: /home/biocbuild/R/R/bin/R CMD INSTALL GWENA StartedAt: 2025-01-29 20:15:34 -0000 (Wed, 29 Jan 2025) EndedAt: 2025-01-29 20:16:21 -0000 (Wed, 29 Jan 2025) EllapsedTime: 46.5 seconds RetCode: 0 Status: OK