Package: GWASTools Version: 1.53.0 Command: chmod a+r GWASTools -R && E:\biocbuild\bbs-3.21-bioc\R\bin\R.exe CMD build --keep-empty-dirs --no-resave-data GWASTools StartedAt: 2025-01-31 18:58:50 -0500 (Fri, 31 Jan 2025) EndedAt: 2025-01-31 19:00:34 -0500 (Fri, 31 Jan 2025) EllapsedTime: 103.8 seconds RetCode: 0 Status: OK PackageFile: GWASTools_1.53.0.tar.gz PackageFileSize: 1.633 MiB