Package: GWAS.BAYES Version: 1.17.0 Command: /Library/Frameworks/R.framework/Resources/bin/R CMD build --keep-empty-dirs --no-resave-data GWAS.BAYES StartedAt: 2025-01-31 16:35:10 -0500 (Fri, 31 Jan 2025) EndedAt: 2025-01-31 16:36:29 -0500 (Fri, 31 Jan 2025) EllapsedTime: 79.8 seconds RetCode: 0 Status: OK PackageFile: GWAS.BAYES_1.17.0.tar.gz PackageFileSize: 1.347 MiB