Package: GSEAmining Version: 1.17.0 Command: E:\biocbuild\bbs-3.21-bioc\R\bin\R.exe CMD INSTALL GSEAmining StartedAt: 2025-01-31 15:31:14 -0500 (Fri, 31 Jan 2025) EndedAt: 2025-01-31 15:31:29 -0500 (Fri, 31 Jan 2025) EllapsedTime: 14.6 seconds RetCode: 0 Status: OK