Package: GSEAmining Version: 1.17.0 Command: /home/biocbuild/R/R/bin/R CMD check --install=check:GSEAmining.install-out.txt --library=/home/biocbuild/R/R/site-library --no-vignettes --timings GSEAmining_1.17.0.tar.gz StartedAt: 2025-01-28 11:19:35 -0000 (Tue, 28 Jan 2025) EndedAt: 2025-01-28 11:21:12 -0000 (Tue, 28 Jan 2025) EllapsedTime: 97.2 seconds RetCode: 0 Status: WARNINGS CheckDir: GSEAmining.Rcheck Warnings: 5